BEGIN:VCALENDAR
VERSION:2.0
PRODID:-//Way Wive Wordz - ECPv6.15.20//NONSGML v1.0//EN
CALSCALE:GREGORIAN
METHOD:PUBLISH
X-WR-CALNAME:Way Wive Wordz
X-ORIGINAL-URL:https://waywivewordz.com
X-WR-CALDESC:Events for Way Wive Wordz
REFRESH-INTERVAL;VALUE=DURATION:PT1H
X-Robots-Tag:noindex
X-PUBLISHED-TTL:PT1H
BEGIN:VTIMEZONE
TZID:Europe/London
BEGIN:DAYLIGHT
TZOFFSETFROM:+0000
TZOFFSETTO:+0100
TZNAME:BST
DTSTART:20240331T010000
END:DAYLIGHT
BEGIN:STANDARD
TZOFFSETFROM:+0100
TZOFFSETTO:+0000
TZNAME:GMT
DTSTART:20241027T010000
END:STANDARD
BEGIN:DAYLIGHT
TZOFFSETFROM:+0000
TZOFFSETTO:+0100
TZNAME:BST
DTSTART:20250330T010000
END:DAYLIGHT
BEGIN:STANDARD
TZOFFSETFROM:+0100
TZOFFSETTO:+0000
TZNAME:GMT
DTSTART:20251026T010000
END:STANDARD
BEGIN:DAYLIGHT
TZOFFSETFROM:+0000
TZOFFSETTO:+0100
TZNAME:BST
DTSTART:20260329T010000
END:DAYLIGHT
BEGIN:STANDARD
TZOFFSETFROM:+0100
TZOFFSETTO:+0000
TZNAME:GMT
DTSTART:20261025T010000
END:STANDARD
END:VTIMEZONE
BEGIN:VEVENT
DTSTART;TZID=Europe/London:20250921T100000
DTEND;TZID=Europe/London:20250921T120000
DTSTAMP:20260425T011832
CREATED:20250714T182200Z
LAST-MODIFIED:20250714T205118Z
UID:8707-1758448800-1758456000@waywivewordz.com
SUMMARY:Walking Meditation and Creative Writing
DESCRIPTION:Step away from the noise and reconnect with yourself through a calming blend of mindfulness and creativity in the serene gardens of Fulham Palace Museum. \nJoin us for a gentle walking meditation followed by a guided creative writing session designed to awaken your senses\, deepen your awareness\, and inspire personal reflection. As we move slowly through the lush grounds of this historic riverside estate\, you’ll be invited to observe\, listen\, and feel the natural world with fresh attention. \nWriting in response to the beauty around you can help clarify thoughts\, reduce stress\, and spark insight. Whether you’re an experienced writer or simply curious\, this is a safe\, supportive space to explore your voice and reconnect with nature’s quiet wisdom. \n\nThis event is a collaboration with Way Wive Wordz\, and Fulham Palace Museum.\n\n\nNo writing experience needed. Just bring a notebook\, an open mind\, and a willingness to pause.\n\nBooking is essential\n\nPatrick Lewis Photo\nAbout the Facilitator\nDr. Asantewa\, an award-winning author and community activist\, will guide the session\, helping you explore mindfulness\, nature\, and self-expression through writing.
URL:https://waywivewordz.com/event/walking-meditation-and-creative-writing/
LOCATION:Fulham Palace Museum\, Bishops Avenue\, London\, SW6 6EA
ATTACH;FMTTYPE=image/jpeg:https://waywivewordz.com/wp-content/uploads/2025/07/Fashion-Show-Event-Magazine-Style-2-scaled.jpg
END:VEVENT
END:VCALENDAR