BEGIN:VCALENDAR
VERSION:2.0
PRODID:-//Way Wive Wordz - ECPv6.15.20//NONSGML v1.0//EN
CALSCALE:GREGORIAN
METHOD:PUBLISH
X-ORIGINAL-URL:https://waywivewordz.com
X-WR-CALDESC:Events for Way Wive Wordz
REFRESH-INTERVAL;VALUE=DURATION:PT1H
X-Robots-Tag:noindex
X-PUBLISHED-TTL:PT1H
BEGIN:VTIMEZONE
TZID:Europe/London
BEGIN:DAYLIGHT
TZOFFSETFROM:+0000
TZOFFSETTO:+0100
TZNAME:BST
DTSTART:20240331T010000
END:DAYLIGHT
BEGIN:STANDARD
TZOFFSETFROM:+0100
TZOFFSETTO:+0000
TZNAME:GMT
DTSTART:20241027T010000
END:STANDARD
BEGIN:DAYLIGHT
TZOFFSETFROM:+0000
TZOFFSETTO:+0100
TZNAME:BST
DTSTART:20250330T010000
END:DAYLIGHT
BEGIN:STANDARD
TZOFFSETFROM:+0100
TZOFFSETTO:+0000
TZNAME:GMT
DTSTART:20251026T010000
END:STANDARD
BEGIN:DAYLIGHT
TZOFFSETFROM:+0000
TZOFFSETTO:+0100
TZNAME:BST
DTSTART:20260329T010000
END:DAYLIGHT
BEGIN:STANDARD
TZOFFSETFROM:+0100
TZOFFSETTO:+0000
TZNAME:GMT
DTSTART:20261025T010000
END:STANDARD
END:VTIMEZONE
BEGIN:VEVENT
DTSTART;TZID=Europe/London:20251014T190000
DTEND;TZID=Europe/London:20251014T203000
DTSTAMP:20260424T221338
CREATED:20250917T162954Z
LAST-MODIFIED:20250919T094930Z
UID:8764-1760468400-1760473800@waywivewordz.com
SUMMARY:African Cultures and Traditions BHM Wimbledon Library
DESCRIPTION:Join us to mark Black History Month for an overview of aspects of African cultures and traditions. Interactive\, engaging and inspiring\, the session includes a look at its spirituality\, artefacts\, music\, dance\, fashion\, oral traditions and more. Presented by Dr Michelle Yaa Asantewa of Way Wive Wordz in collaboration with Merton Libraries. FREE to attend.  All are welcome. Also book here: https://merton.events.mylibrary.digital/event?id=242588\n\nPresenter\nDr Michelle Asantewa is an award-winning author\, independent educator\, cultural consultant and publisher. Her publications include the young adult novel\, Elijah\, The Awakening and Other Poems\, Guyanese Komfa: The Ritual Art of Trance and Something Buried in the Yard\, published by Way Wive Wordz Publishing\, which she co-founded in 2014. She is the editor of the anthology In Search of Mami Wata. Mama Lou Tales\, a biography of her mother received a prize for the Guyana Literary Prize in 2022. Her first collection of short stories\, Rupununi Affair was published in 2024.\n\nPatrick Lewis Photo
URL:https://waywivewordz.com/event/african-cultures-and-traditions-bhm-wimbledon-library/
LOCATION:Wimbledon Library\, 35 Wimbledon Hill\, London\, SW19 7NB
ATTACH;FMTTYPE=image/jpeg:https://waywivewordz.com/wp-content/uploads/2025/09/Copy-of-Copy-of-Copy-of-Film-Festival-Template-7-4-1-scaled.jpg
END:VEVENT
BEGIN:VEVENT
DTSTART;TZID=Europe/London:20251024T140000
DTEND;TZID=Europe/London:20251024T170000
DTSTAMP:20260424T221338
CREATED:20251007T182743Z
LAST-MODIFIED:20251007T183117Z
UID:8799-1761314400-1761325200@waywivewordz.com
SUMMARY:Headwrap & Make-Up Demo Workshop
DESCRIPTION:Join Way Wive Wordz for a headwrap workshop plus a make-up demo as part of our Black History Month events. \nThis fun\, interactive and practical workshop gives you a playful experience of trying on different headwrap styles. Whether for casual or dress-up\, adornment can be therapeutic and feel-good! With well-being and cultural identity as its focus\, this workshop will be a practical session on the importance of adornment. \nSamples of wraps will be provided for you to have fun with\, but you may wish to bring your favourites to try out. \nThis session will be complemented by a make-up demonstration with Make-Up artist Kathy Nanena. \nPlease bring your own make-up and she will show you how to do professional finishes and colour matches to enhance your natural beauty. \nHow to book:\nclick RSVP in the front or  book here.\n\n  \nWorkshop Facilitator: Dr Michelle Asantewa \n \nDr Michelle Asantewa is an award-winning author\, independent educator\, cultural consultant and publisher. Her publications include the young adult novel\, Elijah\, The Awakening and Other Poems\, Guyanese Komfa: The Ritual Art of Trance and Something Buried in the Yard\, published by Way Wive Wordz Publishing\, which she co-founded in 2014. She is the editor of the anthology In Search of Mami Wata. Mama Lou Tales\, a biography of her mother received a prize for the Guyana Literary Prize in 2022. Her first collection of short stories\, Rupununi Affair was published in 2024.
URL:https://waywivewordz.com/event/headwrap-make-up-demo-workshop/
ATTACH;FMTTYPE=image/jpeg:https://waywivewordz.com/wp-content/uploads/2025/10/Fashion-Show-Event-Magazine-Style-3-2-scaled.jpg
END:VEVENT
END:VCALENDAR